BEGIN:VCALENDAR
VERSION:2.0
PRODID:-//Squarespace Inc/Squarespace 6//v6//EN
BEGIN:VEVENT
UID:57ebc597f7e0abae9fb58646@squarespace.com
DTSTAMP:20160928T133309Z
DTSTART:20161014T230000Z
DTEND:20161015T030000Z
SUMMARY:Kilsyth PS Community Fair
GEO:-37.80132;145.321826
LOCATION:Kilsyth Primary School\, Durham Road\, Kilsyth\, VIC\, 3137\, Aust
 ralia
END:VEVENT
END:VCALENDAR
