BEGIN:VCALENDAR
VERSION:2.0
PRODID:-//Squarespace Inc/Squarespace 6//v6//EN
BEGIN:VEVENT
UID:57e4b4fed1758e426f423a5e@squarespace.com
DTSTAMP:20160923T064356Z
DTSTART:20161001T230000Z
DTEND:20161002T050000Z
SUMMARY:Art Centre Market
GEO:-37.859271;144.984296
LOCATION:Melbourne Art Centre Market\, 100 Saint Kilda Road\, Saint Kilda\, 
 VIC\, 3182\, Australia
END:VEVENT
END:VCALENDAR
