BEGIN:VCALENDAR
VERSION:2.0
PRODID:-//Squarespace Inc/Squarespace 6//v6//EN
BEGIN:VEVENT
UID:57e4cd2cebbd1adb123aae79@squarespace.com
DTSTAMP:20160923T064130Z
DTSTART:20161001T220000Z
DTEND:20161002T050000Z
SUMMARY:Melbourne Mystery Market 
GEO:-37.817549;144.967405
LOCATION:Melbourne Mystery Market\, Corner Swanston St and Flinders St\, Me
 lbourne\, Australia
END:VEVENT
END:VCALENDAR
