BEGIN:VCALENDAR
VERSION:2.0
PRODID:-//Squarespace Inc/Squarespace 6//v6//EN
BEGIN:VEVENT
UID:57f4dbc79de4bb6d235b252b@squarespace.com
DTSTAMP:20161005T105914Z
DTSTART:20161022T040000Z
DTEND:20161022T100000Z
SUMMARY:Moonlight Market Bendigo
GEO:-36.760485;144.279487
LOCATION:Moonlight Market Bendigo\, Hargreaves Street\, Bendigo\, VIC\, 355
 0\, Australia
END:VEVENT
END:VCALENDAR
