BEGIN:VCALENDAR
VERSION:2.0
PRODID:-//Squarespace Inc/Squarespace 6//v6//EN
BEGIN:VEVENT
UID:57e4b599893fc0d23d349c9c@squarespace.com
DTSTAMP:20160923T064209Z
DTSTART:20161008T220000Z
DTEND:20161009T030000Z
SUMMARY:Belgrave Big Dream Market
END:VEVENT
END:VCALENDAR
