BEGIN:VCALENDAR
VERSION:2.0
PRODID:-//Squarespace Inc/Squarespace 6//v6//EN
BEGIN:VEVENT
UID:57f4df135016e118468176f1@squarespace.com
DTSTAMP:20161005T111244Z
DTSTART:20161112T220000Z
DTEND:20161113T030000Z
SUMMARY:Belgrave Big Dream Market
GEO:-37.908638;145.352933
LOCATION:Belgrave Big Dreams Market\, Reynolds Lane\, Belgrave\, VIC\, 3160
 \, Australia
END:VEVENT
END:VCALENDAR
