BEGIN:VCALENDAR
VERSION:2.0
PRODID:-//Squarespace Inc/Squarespace 6//v6//EN
BEGIN:VEVENT
UID:5817190db8a79bcbacb34f9f@squarespace.com
DTSTAMP:20161111T075328Z
DTSTART:20161119T220000Z
DTEND:20161120T030000Z
SUMMARY:Ringwood Farmers Market
GEO:-37.812753;145.228816
LOCATION:Eastland Town Square\, 175 Maroondah Highway\, Ringwood\, VIC\, 31
 34\, Australia
END:VEVENT
END:VCALENDAR
