BEGIN:VCALENDAR
VERSION:2.0
PRODID:-//Squarespace Inc/Squarespace 6//v6//EN
BEGIN:VEVENT
UID:58171b1dc534a576aa3b0bcd@squarespace.com
DTSTAMP:20161031T102444Z
DTSTART:20161118T060000Z
DTEND:20161118T100000Z
SUMMARY:Top of The Hill Twilight Market
GEO:-38.369916;145.012177
LOCATION:Top of The Hill Twilight Market\, 184 Arthurs Seat Road\, Red Hill
 \, VIC\, 3937\, Australia
END:VEVENT
END:VCALENDAR
