BEGIN:VCALENDAR
VERSION:2.0
PRODID:-//Squarespace Inc/Squarespace 6//v6//EN
BEGIN:VEVENT
UID:58257912e4fcb5d483d4ba65@squarespace.com
DTSTAMP:20161111T080342Z
DTSTART:20161118T223000Z
DTEND:20161119T043000Z
SUMMARY:Maribyrnong Makers Market
GEO:-37.808932;144.890002
LOCATION:Seddon Uniting Church Hall\, Gamon Street\, Seddon\, VIC\, 3011\, 
 Australia
END:VEVENT
END:VCALENDAR
