BEGIN:VCALENDAR
VERSION:2.0
PRODID:-//Squarespace Inc/Squarespace 6//v6//EN
BEGIN:VEVENT
UID:58171c1cd2b857ceb901ea08@squarespace.com
DTSTAMP:20161031T102823Z
DTSTART:20161118T220000Z
DTEND:20161119T030000Z
SUMMARY:Went To Market
GEO:-38.052614;145.339621
LOCATION:Buchanan Park\, Clyde Road\, Berwick\, VIC\, 3806\, Australia
END:VEVENT
END:VCALENDAR
