BEGIN:VCALENDAR
VERSION:2.0
PRODID:-//Squarespace Inc/Squarespace 6//v6//EN
BEGIN:VEVENT
UID:58171cded2b857ceb901ed95@squarespace.com
DTSTAMP:20161031T103117Z
DTSTART:20161119T230000Z
DTEND:20161120T050000Z
SUMMARY:Melbourne Art Centre Market
GEO:-37.859271;144.984296
LOCATION:Melbourne Art Centre\, 100 Saint Kilda Road\, Saint Kilda\, VIC\, 
 3182\, Australia
END:VEVENT
END:VCALENDAR
