BEGIN:VCALENDAR
VERSION:2.0
PRODID:-//Squarespace Inc/Squarespace 6//v6//EN
BEGIN:VEVENT
UID:58171d88d2b857ceb901f152@squarespace.com
DTSTAMP:20161031T103837Z
DTSTART:20161124T060000Z
DTEND:20161124T100000Z
SUMMARY:Moonlit Market
GEO:-37.812753;145.228816
LOCATION:Eastland Town Square\, 185 Maroondah Highway\, Ringwood\, VIC\, 31
 34\, Australia
END:VEVENT
END:VCALENDAR
