BEGIN:VCALENDAR
VERSION:2.0
PRODID:-//Squarespace Inc/Squarespace 6//v6//EN
BEGIN:VEVENT
UID:58171f4b9f7456c33784b1aa@squarespace.com
DTSTAMP:20161031T104641Z
DTSTART:20161126T060000Z
DTEND:20161126T100000Z
SUMMARY:Moonlight Market Bendigo
GEO:-36.760318;144.279843
LOCATION:Moonlight Market\, Hargreaves Mall\, Bendigo\, VIC\, 3550\, Austra
 lia
END:VEVENT
END:VCALENDAR
