BEGIN:VCALENDAR
VERSION:2.0
PRODID:-//Squarespace Inc/Squarespace 6//v6//EN
BEGIN:VEVENT
UID:5817211d37c581849eb84cc7@squarespace.com
DTSTAMP:20161111T080429Z
DTSTART:20161203T220000Z
DTEND:20161204T030000Z
SUMMARY:Ringwood Farmers Market
GEO:-37.812753;145.228816
LOCATION:Eastland Town Square\, 185 Maroondah Highway\, Ringwood\, VIC\, 31
 34\, Australia
END:VEVENT
END:VCALENDAR
