BEGIN:VCALENDAR
VERSION:2.0
PRODID:-//Squarespace Inc/Squarespace 6//v6//EN
BEGIN:VEVENT
UID:5817186a414fb51499f3fec5@squarespace.com
DTSTAMP:20161031T101203Z
DTSTART:20161104T050000Z
DTEND:20161104T100000Z
SUMMARY:Western Port Twilight Market
GEO:-38.307851;145.193859
LOCATION:Hastings Hall\, 3 High Street\, Hastings\, VIC\, 3915\, Australia
END:VEVENT
END:VCALENDAR
