BEGIN:VCALENDAR
VERSION:2.0
PRODID:-//Squarespace Inc/Squarespace 6//v6//EN
BEGIN:VEVENT
UID:57f4ddefbe65944d4a782d26@squarespace.com
DTSTAMP:20161005T110535Z
DTSTART:20161104T230000Z
DTEND:20161105T050000Z
SUMMARY:St Mary's Magdalen's Great Fete
GEO:-37.879617;145.101236
LOCATION:St Mary Magdalen's Primary School\, 20 Bolwarra Street\, Chadstone
 \, VIC\, 3148\, Australia
END:VEVENT
END:VCALENDAR
