BEGIN:VCALENDAR
VERSION:2.0
PRODID:-//Squarespace Inc/Squarespace 6//v6//EN
BEGIN:VEVENT
UID:5817219b37c581849eb84f75@squarespace.com
DTSTAMP:20161129T104149Z
DTSTART:20161201T060000Z
DTEND:20161201T100000Z
SUMMARY:Moonlit Market
GEO:-37.812753;145.228816
LOCATION:Eastland Town Square\, 185 Maroondah Highway\, Ringwood\, VIC\, 31
 34\, Australia
END:VEVENT
END:VCALENDAR
