BEGIN:VCALENDAR
VERSION:2.0
PRODID:-//Squarespace Inc/Squarespace 6//v6//EN
BEGIN:VEVENT
UID:583d627febbd1ac168f4211e@squarespace.com
DTSTAMP:20161129T112016Z
DTSTART:20161209T220000Z
DTEND:20161210T030000Z
SUMMARY:Local Market Co
GEO:-37.819483;145.230832
LOCATION:Maroondah Federation Estate\, 32 Greenwood Avenue\, Ringwood\, VIC
 \, 3134\, Australia
END:VEVENT
END:VCALENDAR
