BEGIN:VCALENDAR
VERSION:2.0
PRODID:-//Squarespace Inc/Squarespace 6//v6//EN
BEGIN:VEVENT
UID:583d647d5016e1d8b7d6cc0a@squarespace.com
DTSTAMP:20161129T112220Z
DTSTART:20161210T220000Z
DTEND:20161211T030000Z
SUMMARY:Belgrave Big Dreams 
GEO:-37.908638;145.352933
LOCATION:St Thomas Moore Primary School\, Reynolds Lane\, Belgrave\, VIC\, 
 3160\, Australia
END:VEVENT
END:VCALENDAR
