BEGIN:VCALENDAR
VERSION:2.0
PRODID:-//Squarespace Inc/Squarespace 6//v6//EN
BEGIN:VEVENT
UID:583d650020099e25d0beb563@squarespace.com
DTSTAMP:20161129T112605Z
DTSTART:20161215T053000Z
DTEND:20161215T093000Z
SUMMARY:Maribyrnong Makers Market
GEO:-37.808932;144.890002
LOCATION:Seddon Uniting Church\, Gamon Street\, Seddon\, VIC\, 3011\, Austr
 alia
END:VEVENT
END:VCALENDAR
