BEGIN:VCALENDAR
VERSION:2.0
PRODID:-//Squarespace Inc/Squarespace 6//v6//EN
BEGIN:VEVENT
UID:583d5aafb8a79bc809b658b2@squarespace.com
DTSTAMP:20161129T103951Z
DTSTART:20161215T060000Z
DTEND:20161215T100000Z
SUMMARY:Moonlit Market Eastland
GEO:-37.812753;145.228816
LOCATION:Eastland\, 175 Maroondah Highway\, Ringwood\, VIC\, 3134\, Austral
 ia
END:VEVENT
END:VCALENDAR
