BEGIN:VCALENDAR
VERSION:2.0
PRODID:-//Squarespace Inc/Squarespace 6//v6//EN
BEGIN:VEVENT
UID:584e7ffa59cc6892ae160f62@squarespace.com
DTSTAMP:20161212T113419Z
DTSTART:20161217T040000Z
DTEND:20161217T090000Z
SUMMARY:Mornington Twilight Market Craft Market Australia
GEO:-38.237137;145.06677
LOCATION:Mornington Racecourse\, Racecourse Road\, Mornington\, VIC\, 3931\
 , Australia
END:VEVENT
END:VCALENDAR
