BEGIN:VCALENDAR
VERSION:2.0
PRODID:-//Squarespace Inc/Squarespace 6//v6//EN
BEGIN:VEVENT
UID:583d665359cc68a8c3d21bd6@squarespace.com
DTSTAMP:20161129T113203Z
DTSTART:20161216T220000Z
DTEND:20161217T030000Z
SUMMARY:Went to Market
GEO:-38.052614;145.339621
LOCATION:Buchanan Park\, Clyde Road\, Berwick\, VIC\, 3806\, Australia
END:VEVENT
END:VCALENDAR
