BEGIN:VCALENDAR
VERSION:2.0
PRODID:-//Squarespace Inc/Squarespace 6//v6//EN
BEGIN:VEVENT
UID:583d54ee6b8f5b152d49cac3@squarespace.com
DTSTAMP:20161129T101710Z
DTSTART:20161201T230000Z
DTEND:20161202T040000Z
SUMMARY:Christmas On Collins
GEO:-37.81464;144.972027
LOCATION:Collins Place\, 45 Collins Street\, Melbourne\, VIC\, 3000\, Austr
 alia
END:VEVENT
END:VCALENDAR
