BEGIN:VCALENDAR
VERSION:2.0
PRODID:-//Squarespace Inc/Squarespace 6//v6//EN
BEGIN:VEVENT
UID:583d587ce58c627c3a6ad442@squarespace.com
DTSTAMP:20161129T103249Z
DTSTART:20161202T220000Z
DTEND:20161203T030000Z
SUMMARY:Market On The Green Sunbury
GEO:-37.582362;144.729109
LOCATION:Village Green\, Oshanassy Street\, Sunbury\, VIC\, 3429\, Australi
 a
END:VEVENT
END:VCALENDAR
