BEGIN:VCALENDAR
VERSION:2.0
PRODID:-//Squarespace Inc/Squarespace 6//v6//EN
BEGIN:VEVENT
UID:583d595de3df281220ac90fb@squarespace.com
DTSTAMP:20161129T103500Z
DTSTART:20161203T230000Z
DTEND:20161204T050000Z
SUMMARY:Melbourne Art Centre Market
GEO:-37.859271;144.984296
LOCATION:Melbourne Art Centre\, 100 Saint Kilda Road\, Saint Kilda\, VIC\, 
 3182\, Australia
END:VEVENT
END:VCALENDAR
