BEGIN:VCALENDAR
VERSION:2.0
PRODID:-//Squarespace Inc/Squarespace 6//v6//EN
BEGIN:VEVENT
UID:583d60d337c5810ef2743416@squarespace.com
DTSTAMP:20161129T110659Z
DTSTART:20161209T050000Z
DTEND:20161209T080000Z
SUMMARY:Christmas Picnic & Market
GEO:-37.989376;145.064534
LOCATION:Mentone Girls Grammar\, 11 Mentone Parade\, Mentone\, VIC\, 3194\, 
 Australia
END:VEVENT
END:VCALENDAR
