BEGIN:VCALENDAR
VERSION:2.0
PRODID:-//Squarespace Inc/Squarespace 6//v6//EN
BEGIN:VEVENT
UID:583d616ebebafbc5c1262b36@squarespace.com
DTSTAMP:20161129T112805Z
DTSTART:20161209T060000Z
DTEND:20161209T100000Z
SUMMARY:Docklands Christmas Market
GEO:-37.817286;144.946053
LOCATION:Docklands\, Harbour Esplanade\, Docklands\, VIC\, 3008\, Australia
END:VEVENT
END:VCALENDAR
