BEGIN:VCALENDAR
VERSION:2.0
PRODID:-//Squarespace Inc/Squarespace 6//v6//EN
BEGIN:VEVENT
UID:57d90673d2b8571af354920b@squarespace.com
DTSTAMP:20160923T064429Z
DTSTART:20160918T000000Z
DTEND:20160918T060000Z
SUMMARY:Art Centre Market
GEO:-37.859271;144.984296
LOCATION:Melbourne Art Centre Market\, 100 Saint Kilda Road\, Saint Kilda\, 
 VIC\, 3182\, Australia
END:VEVENT
END:VCALENDAR
