BEGIN:VCALENDAR
VERSION:2.0
PRODID:-//Squarespace Inc/Squarespace 6//v6//EN
BEGIN:VEVENT
UID:57e4b553893fc0d23d349b16@squarespace.com
DTSTAMP:20160923T063408Z
DTSTART:20160924T050000Z
DTEND:20160924T100000Z
SUMMARY:Moonlight Market Bendigo
GEO:-36.760321;144.279839
LOCATION:Moonlight Market Bendigo\, Hargreaves Mall\, Bendigo\, VIC\, 3550\
 , Australia
END:VEVENT
END:VCALENDAR
