BEGIN:VCALENDAR
VERSION:2.0
PRODID:-//Squarespace Inc/Squarespace 6//v6//EN
BEGIN:VEVENT
UID:5869a568893fc0dff9fd398f@squarespace.com
DTSTAMP:20170102T010203Z
DTSTART:20170113T040000Z
DTEND:20170113T090000Z
SUMMARY:Red Hill Twilight Market
GEO:-38.356897;144.962919
LOCATION:Red Hill Recreation Reserve\, Arthurs Seat Road\, Arthurs Seat\, V
 IC\, 3936\, Australia
END:VEVENT
END:VCALENDAR
