BEGIN:VCALENDAR
VERSION:2.0
PRODID:-//Squarespace Inc/Squarespace 6//v6//EN
BEGIN:VEVENT
UID:5869a694e3df2818c01804ee@squarespace.com
DTSTAMP:20170102T010521Z
DTSTART:20170113T220000Z
DTEND:20170114T030000Z
SUMMARY:Heide Makers Market
GEO:-37.759014;145.083196
LOCATION:Heide Muesum of Modern Art\, 7 Templestowe Road\, Bulleen\, VIC\, 
 3105\, Australia
END:VEVENT
END:VCALENDAR
