BEGIN:VCALENDAR
VERSION:2.0
PRODID:-//Squarespace Inc/Squarespace 6//v6//EN
BEGIN:VEVENT
UID:5869a75915d5db92fb88ccea@squarespace.com
DTSTAMP:20170102T010801Z
DTSTART:20170114T230000Z
DTEND:20170115T050000Z
SUMMARY:Melbourne Art Centre Market
GEO:-37.859271;144.984296
LOCATION:Melbourne Art Centre\, 100 Saint Kilda Road\, Saint Kilda\, VIC\, 
 3182\, Australia
END:VEVENT
END:VCALENDAR
