BEGIN:VCALENDAR
VERSION:2.0
PRODID:-//Squarespace Inc/Squarespace 6//v6//EN
BEGIN:VEVENT
UID:5869a848be65940ffdfcc5df@squarespace.com
DTSTAMP:20170102T011044Z
DTSTART:20170120T030000Z
DTEND:20170120T070000Z
SUMMARY:William Sanoma Pop Uo
GEO:-37.888418;145.081591
LOCATION:William Sanoma\, 1341 Dandenong Road\, Chastone\, Australia
END:VEVENT
END:VCALENDAR
