BEGIN:VCALENDAR
VERSION:2.0
PRODID:-//Squarespace Inc/Squarespace 6//v6//EN
BEGIN:VEVENT
UID:5869b4a3414fb5aa2ba57bd7@squarespace.com
DTSTAMP:20170102T020323Z
DTSTART:20170120T220000Z
DTEND:20170121T030000Z
SUMMARY:Went To Markt
GEO:-38.052614;145.339621
LOCATION:Went To Market\, Clyde Road\, Berwick\, VIC\, 3806\, Australia
END:VEVENT
END:VCALENDAR
