BEGIN:VCALENDAR
VERSION:2.0
PRODID:-//Squarespace Inc/Squarespace 6//v6//EN
BEGIN:VEVENT
UID:5869b71cd482e9c930f6b296@squarespace.com
DTSTAMP:20170102T021418Z
DTSTART:20170126T050000Z
DTEND:20170126T110000Z
SUMMARY:Nightjar Festival
GEO:-38.337724;144.320882
LOCATION:NightJar Festival\, Bell Street\, Torquay\, VIC\, 3228\, Australia
END:VEVENT
END:VCALENDAR
