BEGIN:VCALENDAR
VERSION:2.0
PRODID:-//Squarespace Inc/Squarespace 6//v6//EN
BEGIN:VEVENT
UID:5869b785d482e9c930f6b733@squarespace.com
DTSTAMP:20170102T021855Z
DTSTART:20170128T230000Z
DTEND:20170129T050000Z
SUMMARY:Melbourne Art Centre Market
GEO:-37.859271;144.984296
LOCATION:Melbourne Art Centre\, 100 Saint Kilda Road\, Saint Kilda\, VIC\, 
 3182\, Australia
END:VEVENT
END:VCALENDAR
