BEGIN:VCALENDAR
VERSION:2.0
PRODID:-//Squarespace Inc/Squarespace 6//v6//EN
BEGIN:VEVENT
UID:58699da203596efaebea0d78@squarespace.com
DTSTAMP:20170102T004900Z
DTSTART:20170105T050000Z
DTEND:20170105T110000Z
SUMMARY:Nightjar Festival
GEO:-38.337724;144.320882
LOCATION:Nightjar Festival\, Bell Street\, Torquay\, VIC\, 3228\, Australia
END:VEVENT
END:VCALENDAR
