BEGIN:VCALENDAR
VERSION:2.0
PRODID:-//Squarespace Inc/Squarespace 6//v6//EN
BEGIN:VEVENT
UID:5869a389bebafb6e8b199e45@squarespace.com
DTSTAMP:20170102T005533Z
DTSTART:20170106T010000Z
DTEND:20170106T030000Z
SUMMARY:Wiiliam Sanoma
GEO:-37.888418;145.081591
LOCATION:William Sanoma Chadstone\, 1341 Dandenong Road\, Chadstone\, Austr
 alia
END:VEVENT
END:VCALENDAR
