BEGIN:VCALENDAR
VERSION:2.0
PRODID:-//Squarespace Inc/Squarespace 6//v6//EN
BEGIN:VEVENT
UID:59ca46e2bce176caf53a4543@squarespace.com
DTSTAMP:20170926T122610Z
DTSTART:20170930T230000Z
DTEND:20171001T050000Z
SUMMARY:Melbourne Art Centre Market
GEO:-37.820089;144.968129
LOCATION:Melbourne Art Centre\, 100 Saint Kilda Road\, Southbank\, VIC\, 30
 06\, Australia
END:VEVENT
END:VCALENDAR
