BEGIN:VCALENDAR
VERSION:2.0
PRODID:-//Squarespace Inc/Squarespace 6//v6//EN
BEGIN:VEVENT
UID:59ca47e5a9db098f1ff29f95@squarespace.com
DTSTAMP:20170926T123010Z
DTSTART:20171013T230000Z
DTEND:20171014T040000Z
SUMMARY:Heide Makers Market
GEO:-37.759014;145.083196
LOCATION:Heide Museum Modern Art\, 7 Templestowe Road\, Bulleen\, VIC\, 310
 5\, Australia
END:VEVENT
END:VCALENDAR
