BEGIN:VCALENDAR
VERSION:2.0
PRODID:-//Squarespace Inc/Squarespace 6//v6//EN
BEGIN:VEVENT
UID:59ca485cc027d8b482a3d9d0@squarespace.com
DTSTAMP:20170926T130857Z
DTSTART:20171014T230000Z
DTEND:20171015T050000Z
SUMMARY:Melbourne Art Centre Market
GEO:-37.820089;144.968129
LOCATION:Melbourne Art Centre\, 100 Saint Kilda Road\, Southbank\, VIC\, 30
 06\, Australia
END:VEVENT
END:VCALENDAR
