BEGIN:VCALENDAR
VERSION:2.0
PRODID:-//Squarespace Inc/Squarespace 6//v6//EN
BEGIN:VEVENT
UID:59ca48edf7e0ab63a2a3f43c@squarespace.com
DTSTAMP:20170926T130826Z
DTSTART:20171014T210000Z
DTEND:20171015T020000Z
SUMMARY:Seaford Farmers Market
GEO:-38.103461;145.126917
LOCATION:Seaford Farmers Market\, Station Street\, Seaford\, VIC\, 3198\, A
 ustralia
END:VEVENT
END:VCALENDAR
