BEGIN:VCALENDAR
VERSION:2.0
PRODID:-//Squarespace Inc/Squarespace 6//v6//EN
BEGIN:VEVENT
UID:59ca4965e9bfdfdd7209e0e9@squarespace.com
DTSTAMP:20170926T123804Z
DTSTART:20171021T230000Z
DTEND:20171022T040000Z
SUMMARY:Sorrento Makers Market
GEO:-38.341558;144.73469
LOCATION:Sorrento Makers Market\, Ocean Beach Road\, Sorrento\, VIC\, 3943\
 , Australia
END:VEVENT
END:VCALENDAR
