BEGIN:VCALENDAR
VERSION:2.0
PRODID:-//Squarespace Inc/Squarespace 6//v6//EN
BEGIN:VEVENT
UID:59ca4a692aeba5bc0505bef9@squarespace.com
DTSTAMP:20170926T124225Z
DTSTART:20171026T050000Z
DTEND:20171026T090000Z
SUMMARY:Eltham Twilight
GEO:-37.713893;145.149283
LOCATION:Eltham Town Square\, Eltham Town Square
END:VEVENT
END:VCALENDAR
