BEGIN:VCALENDAR
VERSION:2.0
PRODID:-//Squarespace Inc/Squarespace 6//v6//EN
BEGIN:VEVENT
UID:59ca4b93d7bdce066ff3535b@squarespace.com
DTSTAMP:20170926T124609Z
DTSTART:20171027T230000Z
DTEND:20171028T040000Z
SUMMARY:Little Beauty In the Park
GEO:-38.147371;145.121401
LOCATION:Little Beauty In the Park\, Bay Trail\, Frankston\, VIC\, 3199\, A
 ustralia
END:VEVENT
END:VCALENDAR
