BEGIN:VCALENDAR
VERSION:2.0
PRODID:-//Squarespace Inc/Squarespace 6//v6//EN
BEGIN:VEVENT
UID:59ca4771a803bb621174ed58@squarespace.com
DTSTAMP:20170926T122807Z
DTSTART:20171007T220000Z
DTEND:20171008T030000Z
SUMMARY:Belgrave Big Dreams
GEO:-37.908638;145.352933
LOCATION:St Thomas Moore Primary School\, Reynolds Lane\, Belgrave\, VIC\, 
 3160\, Australia
END:VEVENT
END:VCALENDAR
