BEGIN:VCALENDAR
VERSION:2.0
PRODID:-//Squarespace Inc/Squarespace 6//v6//EN
BEGIN:VEVENT
UID:59ca4e4af9a61eef0a36d8aa@squarespace.com
DTSTAMP:20170926T125635Z
DTSTART:20171110T230000Z
DTEND:20171111T040000Z
SUMMARY:Heide Makers Market
GEO:-37.759014;145.083196
LOCATION:Heide Muesum Modern Art\, 7 Templestowe Road\, Bulleen\, VIC\, 310
 5\, Australia
END:VEVENT
END:VCALENDAR
