BEGIN:VCALENDAR
VERSION:2.0
PRODID:-//Squarespace Inc/Squarespace 6//v6//EN
BEGIN:VEVENT
UID:59ca4e8c49fc2bf7b3639a0b@squarespace.com
DTSTAMP:20170926T125804Z
DTSTART:20171111T220000Z
DTEND:20171112T030000Z
SUMMARY:Belgrave Big Dreams
GEO:-37.908638;145.352933
LOCATION:St Thomas More Primary School\, Reynolds Lane\, Belgrave\, VIC\, 3
 160\, Australia
END:VEVENT
END:VCALENDAR
