BEGIN:VCALENDAR
VERSION:2.0
PRODID:-//Squarespace Inc/Squarespace 6//v6//EN
BEGIN:VEVENT
UID:59ca4ee846c3c4adaa1ebfee@squarespace.com
DTSTAMP:20170926T125911Z
DTSTART:20171116T060000Z
DTEND:20171116T100000Z
SUMMARY:Eastland Moonlit Market
GEO:-37.812753;145.228816
LOCATION:Eastland\, 175 Maroondah Highway\, Ringwood\, VIC\, 3134\, Austral
 ia
END:VEVENT
END:VCALENDAR
